BEGIN:VCALENDAR
PRODID:-//eluceo/ical//2.0/EN
VERSION:2.0
CALSCALE:GREGORIAN
BEGIN:VEVENT
UID:event-22
DTSTAMP:20260424T001738Z
SUMMARY:Concert Studenten Orkest
DESCRIPTION:Ter ere van het lustrumjaar van de universiteit hebben we een f
 antastisch concertuitje georganiseerd dat je niet wilt missen! Op donderda
 g 20 februari gaan we genieten van het Nederlands Studenten Orkest\, onder
  leiding van de getalenteerde jonge dirigent Chloe Rooke. Als kers op de t
 aart treedt de wereldberoemde altvioliste Dana Zemtsov op – een unieke k
 ans om haar live te zien schitteren! 🎶 Het concert vindt plaats in de S
 tadsgehoorzaal in Leiden. De eigen bijdrage is slechts €5\,- inclusief e
 en drankje. Schrijf je snel! 💙
DTSTART:20250220T190000Z
DTEND:20250220T213000Z
LOCATION:Stadsgehoorzaal Leiden
END:VEVENT
BEGIN:VTIMEZONE
TZID:UTC
BEGIN:STANDARD
DTSTART:20250220T190000
TZNAME:UTC
TZOFFSETTO:+0000
TZOFFSETFROM:+0000
END:STANDARD
END:VTIMEZONE
END:VCALENDAR
