BEGIN:VCALENDAR
PRODID:-//eluceo/ical//2.0/EN
VERSION:2.0
CALSCALE:GREGORIAN
BEGIN:VEVENT
UID:event-165
DTSTAMP:20260421T090057Z
SUMMARY:Sponsorloop Spieren voor Spieren
DESCRIPTION:Op 1 mei organiseert de goede-doelencommissie een sponsorloop v
 oor het goede doel Spieren voor Spieren\, met aansluitend een borrel!
DTSTART:20260501T130000Z
DTEND:20260501T150000Z
LOCATION:Klinkenbergerplas\, Oegstgeest
END:VEVENT
BEGIN:VTIMEZONE
TZID:UTC
BEGIN:STANDARD
DTSTART:20260501T130000
TZNAME:UTC
TZOFFSETTO:+0000
TZOFFSETFROM:+0000
END:STANDARD
END:VTIMEZONE
END:VCALENDAR
