BEGIN:VCALENDAR
PRODID:-//eluceo/ical//2.0/EN
VERSION:2.0
CALSCALE:GREGORIAN
BEGIN:VEVENT
UID:event-161
DTSTAMP:20260421T123117Z
SUMMARY:Kantoorbezoek Houthoff
DESCRIPTION:Wil jij weten hoe het is om bij een advocatenkantoor te werken 
 of ben je op zoek naar een stage/werkstudentschap? Kom dan naar het kantoo
 rbezoek bij Houthoff! Houthoff is één van de grootste advocatenkantoren 
 van Nederland\, gevestigd op de Zuidas. Ze zijn een full-service kantoor\,
  wat betekent dat ze zo'n beetje alle praktijkgroepen die je kunt bedenke
 n op kantoor hebben. Afsluitend hebben we een lunch met kantoorgenoten. 
DTSTART:20260423T080000Z
DTEND:20260423T113000Z
LOCATION:Amsterdam
END:VEVENT
BEGIN:VTIMEZONE
TZID:UTC
BEGIN:STANDARD
DTSTART:20260423T080000
TZNAME:UTC
TZOFFSETTO:+0000
TZOFFSETFROM:+0000
END:STANDARD
END:VTIMEZONE
END:VCALENDAR
