BEGIN:VCALENDAR
PRODID:-//eluceo/ical//2.0/EN
VERSION:2.0
CALSCALE:GREGORIAN
BEGIN:VEVENT
UID:event-158
DTSTAMP:20260421T091437Z
SUMMARY:Symposium
DESCRIPTION:Wat als het rechtssysteem faalt en een onschuldige veroordeeld 
 wordt? J.F.V. Grotius\, CoDe en SOS nodigen je uit voor een boeiend sympos
 ium over gerechtelijke dwaling\, een van de meest indringende vraagstukken
  binnen de criminologie en het strafrecht. We duiken woensdag 29 april van
  15:00 tot 18:00 uur samen in de oorzaken\, gevolgen en mogelijke oplossin
 gen voor dit pijnlijke fenomeen. Denk aan foute bewijsvoering\, tunnelvisi
 e bij opsporingsinstanties en de (on)mogelijkheden van herziening. Hoe kun
 nen we het systeem verbeteren\, en wat staat rechtvaardigheid in de weg? W
 e combineren deze inhoudelijke discussie met een drankje en bittergarnituu
 r🍻🍷. Geniet na het symposium gerust van de open bar en ga in discuss
 ie met de andere deelnemers! 📍 Café De Leidse Lente\, Leiden 🗓️ 2
 9 april | 15:00 – 18:00 uur 🍻 Aansluitende borrel 18:00 - 19:00 uur M
 is dit niet en schrijf je snel gratis in! (Let op: niet-leden betalen een 
 eigen bijdrage van €2.00)
DTSTART:20260429T130000Z
DTEND:20260429T160000Z
LOCATION:Leidse Lente
END:VEVENT
BEGIN:VTIMEZONE
TZID:UTC
BEGIN:STANDARD
DTSTART:20260429T130000
TZNAME:UTC
TZOFFSETTO:+0000
TZOFFSETFROM:+0000
END:STANDARD
END:VTIMEZONE
END:VCALENDAR
